
BEGIN:VCALENDAR
VERSION:2.0
PRODID:-//Europejska Akademia Dyplomacji
CALSCALE:GREGORIAN
METHOD:PUBLISH
X-WR-CALNAME:Europejska Akademia Dyplomacji
X-ORIGINAL-URL:https://diplomats.pl/event/academy-young-diplomats-xiii-edition-iii-session-3-5-february-2017/
X-WR-CALDESC:ACADEMY OF YOUNG DIPLOMATS | XIII EDITION III SESSION | 3 – 5 February 2017
BEGIN:VEVENT
DTSTART:20170203T000000
DTEND:20170205T000000
SUMMARY:ACADEMY OF YOUNG DIPLOMATS | XIII EDITION III SESSION | 3 – 5 February 2017
DESCRIPTION:  
LOCATION:Wawelska Street 56, 00-922 Warsaw
END:VEVENT
END:VCALENDAR
